BEGIN:VCALENDAR
VERSION:2.0
PRODID:-//wp-events-plugin.com//6.4.8//EN
TZID:Europe/London
X-WR-TIMEZONE:Europe/London
BEGIN:VEVENT
UID:424@wwsc.org.uk
DTSTART;TZID=Europe/London:20230603T103000
DTEND;TZID=Europe/London:20230603T163000
DTSTAMP:20230312T162341Z
URL:https://wwsc.org.uk/events/rs-100-200-saturday-open-meeting-2/
SUMMARY:RS 100/200 Saturday Open Meeting
DESCRIPTION:
CATEGORIES:Racing
END:VEVENT
BEGIN:VTIMEZONE
TZID:Europe/London
X-LIC-LOCATION:Europe/London
BEGIN:DAYLIGHT
DTSTART:20230326T020000
TZOFFSETFROM:+0000
TZOFFSETTO:+0100
TZNAME:BST
END:DAYLIGHT
END:VTIMEZONE
END:VCALENDAR